BEGIN:VCALENDAR
VERSION:2.0
PRODID:-//Paint &amp; Pour - ECPv2.0.11//NONSGML v1.0//EN
CALSCALE:GREGORIAN
METHOD:PUBLISH
X-WR-CALNAME:Paint &amp; Pour
X-ORIGINAL-URL:https://thepaintandpour.com
X-WR-CALDESC:Events for Paint &amp; Pour
X-WR-TIMEZONE:America/Detroit
BEGIN:VEVENT
DTSTART;VALUE=DATE-TIME:20180713T190000
DTEND;VALUE=DATE-TIME:20180713T210000.000000
DTSTAMP:20260424T150805
CREATED:20180521T222136
LAST-MODIFIED:20180521T222136
UID:392464-1531508400-@https://thepaintandpour.com
SUMMARY:Paradise Waterfall - Jul 13th 7-9 PM
DESCRIPTION:&nbsp;  Paradise Waterfall  &nbsp;
LOCATION:5 S Washington St, Ypsilanti, MI, 48197, United States
URL:https://thepaintandpour.com/event/paradise-waterfall-jul-13th-7-9-pm/
END:VEVENT
END:VCALENDAR