BEGIN:VCALENDAR
VERSION:2.0
PRODID:-//Paint &amp; Pour - ECPv2.0.11//NONSGML v1.0//EN
CALSCALE:GREGORIAN
METHOD:PUBLISH
X-WR-CALNAME:Paint &amp; Pour
X-ORIGINAL-URL:https://thepaintandpour.com
X-WR-CALDESC:Events for Paint &amp; Pour
X-WR-TIMEZONE:America/Detroit
BEGIN:VEVENT
DTSTART;VALUE=DATE-TIME:20190629T190000
DTEND;VALUE=DATE-TIME:20190629T210000.000000
DTSTAMP:20260423T155509
CREATED:20190612T152708
LAST-MODIFIED:20190612T152708
UID:476240-1561834800-@https://thepaintandpour.com
SUMMARY:Painting with Brandee Birthday Celebration - Girl Power - Jun 29th 7-9 PM
DESCRIPTION:&nbsp;  Girl Power  Painting with Brandee Birthday Celebration  PRIVATE EVENT  Sip &amp; paint with me for my birthday!  Brandee's House  33356 Sienna Dr.  Romulus\, MI 48174  
LOCATION:MI, United States
URL:https://thepaintandpour.com/event/painting-with-brandee-birthday-celebration-girl-power-jun-29th-7-9-pm/
END:VEVENT
END:VCALENDAR