BEGIN:VCALENDAR
VERSION:2.0
PRODID:-//Paint &amp; Pour - ECPv2.0.11//NONSGML v1.0//EN
CALSCALE:GREGORIAN
METHOD:PUBLISH
X-WR-CALNAME:Paint &amp; Pour
X-ORIGINAL-URL:https://thepaintandpour.com
X-WR-CALDESC:Events for Paint &amp; Pour
X-WR-TIMEZONE:America/Detroit
BEGIN:VEVENT
DTSTART;VALUE=DATE-TIME:20190330T150000
DTEND;VALUE=DATE-TIME:20190330T180000.000000
DTSTAMP:20260423T210455
CREATED:20190108T182549
LAST-MODIFIED:20190328T184723
UID:421927-1553958000-@https://thepaintandpour.com
SUMMARY:Paint Your Pet - Mar 30th 3-6 PM
DESCRIPTION:Paint Your Pet  &nbsp;  INSTRUCTIONS:  1. Register for this class using the ticket form below.  2. Send a HEAD SHOT (see below for examples) of your pet to info@thepaintandpour.com by March 23rd. Late submissions will have a $10 late fee attached to the ticket price.  All ticket sales will be cut off by March 28th.      WARNING: You MUST send in your pet’s picture by noon on March 23rd (after purchasing your ticket) for us to have your canvas prepared. If you send in your picture late there will be an additional $10 fee applied.    3. Our artists will walk you through the steps to bring your pets sketch to life as an acrylic painted masterpiece of your very own!    &nbsp;    &nbsp;
LOCATION:22000 Michigan Ave, Dearborn, MI, 48124, United States
URL:https://thepaintandpour.com/event/paint-your-pet-mar-30th-3-6-pm/
END:VEVENT
END:VCALENDAR