BEGIN:VCALENDAR
VERSION:2.0
PRODID:-//Paint &amp; Pour - ECPv2.0.11//NONSGML v1.0//EN
CALSCALE:GREGORIAN
METHOD:PUBLISH
X-WR-CALNAME:Paint &amp; Pour
X-ORIGINAL-URL:https://thepaintandpour.com
X-WR-CALDESC:Events for Paint &amp; Pour
X-WR-TIMEZONE:America/Detroit
BEGIN:VEVENT
DTSTART;VALUE=DATE-TIME:20180316T063000
DTEND;VALUE=DATE-TIME:20180316T213000.000000
DTSTAMP:20260424T192352
CREATED:20180225T004351
LAST-MODIFIED:20180316T143024
UID:380686-1521181800-@https://thepaintandpour.com
SUMMARY:Paint Your Pet - Mar 16th 6:30-9:30 PM
DESCRIPTION:Paint Your Pet  &nbsp;  INSTRUCTIONS:  1. Register for this class using the ticket form below.  2. Send a HEAD SHOT (see below for examples) of your pet to danni@thepaintandpour.com by March 9th. Late submissions will have a $10 late fee attached to the ticket price.  All ticket sales will be cut off by March 12th.      WARNING: You MUST send in your pet’s picture by noon on March 9th (after purchasing your ticket) for us to have your canvas prepared. If you send in your picture late there will be an additional $10 fee applied.    3. Our artists will walk you through the steps to bring your pets sketch to life as an acrylic painted masterpiece of your very own!    &nbsp;    Are YOU interested in having a private party with us?    Paint and Pour offers an incredible new way to spice up your next event. Let our Entertainer/Instructors guide your guests through an evening of art and merriment and they’ll be sure to talk about it for weeks! Paint and Pour private parties are great for ANY event so don’t hesitate.    Call us at (734) 720-9777 or Contact Us today to schedule your Paint Party!
LOCATION:5 S Washington St, Ypsilanti, MI, 48197, United States
URL:https://thepaintandpour.com/event/paint-your-pet-mar-16th-630-930-pm/
END:VEVENT
END:VCALENDAR