BEGIN:VCALENDAR
VERSION:2.0
PRODID:-//Paint &amp; Pour - ECPv2.0.11//NONSGML v1.0//EN
CALSCALE:GREGORIAN
METHOD:PUBLISH
X-WR-CALNAME:Paint &amp; Pour
X-ORIGINAL-URL:https://thepaintandpour.com
X-WR-CALDESC:Events for Paint &amp; Pour
X-WR-TIMEZONE:America/Detroit
BEGIN:VEVENT
DTSTART;VALUE=DATE-TIME:20200305T190000
DTEND;VALUE=DATE-TIME:20200305T210000.000000
DTSTAMP:20260423T224616
CREATED:20200121T135013
LAST-MODIFIED:20210410T084715
UID:536024-1583434800-@https://thepaintandpour.com
SUMMARY:Out of Africa - Mar 5th 7-9 PM
DESCRIPTION:Out of Africa
LOCATION:5 S Washington St, Ypsilanti, MI, 48197, United States
URL:https://thepaintandpour.com/event/out-of-africa-mar-5th-7-9-pm/
END:VEVENT
END:VCALENDAR