BEGIN:VCALENDAR
VERSION:2.0
PRODID:-//Paint &amp; Pour - ECPv2.0.11//NONSGML v1.0//EN
CALSCALE:GREGORIAN
METHOD:PUBLISH
X-WR-CALNAME:Paint &amp; Pour
X-ORIGINAL-URL:https://thepaintandpour.com
X-WR-CALDESC:Events for Paint &amp; Pour
X-WR-TIMEZONE:America/Detroit
BEGIN:VEVENT
DTSTART;VALUE=DATE-TIME:20181004T190000
DTEND;VALUE=DATE-TIME:20181004T210000.000000
DTSTAMP:20260423T081438
CREATED:20180810T010515
LAST-MODIFIED:20180810T010515
UID:397517-1538679600-@https://thepaintandpour.com
SUMMARY:October Forest - Oct 4th 7-9 PM
DESCRIPTION:&nbsp;  October Forest  &nbsp;
LOCATION:22000 Michigan Ave, Dearborn, MI, 48124, United States
URL:https://thepaintandpour.com/event/october-forest-oct-4th-7-9-pm/
END:VEVENT
END:VCALENDAR