BEGIN:VCALENDAR
VERSION:2.0
PRODID:-//Paint &amp; Pour - ECPv2.0.11//NONSGML v1.0//EN
CALSCALE:GREGORIAN
METHOD:PUBLISH
X-WR-CALNAME:Paint &amp; Pour
X-ORIGINAL-URL:https://thepaintandpour.com
X-WR-CALDESC:Events for Paint &amp; Pour
X-WR-TIMEZONE:America/Detroit
BEGIN:VEVENT
DTSTART;VALUE=DATE-TIME:20180530T190000
DTEND;VALUE=DATE-TIME:20180530T210000.000000
DTSTAMP:20260424T210015
CREATED:20180309T020139
LAST-MODIFIED:20180309T020139
UID:381982-1527706800-@https://thepaintandpour.com
SUMMARY:Nothing's Black and White - May 30th 7-9 PM
DESCRIPTION:&nbsp;  Nothing's Black and White  &nbsp;    &nbsp;
LOCATION:22000 Michigan Ave, Dearborn, MI, 48124, United States
URL:https://thepaintandpour.com/event/nothings-black-and-white-may-30th-7-9-pm/
END:VEVENT
END:VCALENDAR