BEGIN:VCALENDAR
VERSION:2.0
PRODID:-//Paint &amp; Pour - ECPv2.0.11//NONSGML v1.0//EN
CALSCALE:GREGORIAN
METHOD:PUBLISH
X-WR-CALNAME:Paint &amp; Pour
X-ORIGINAL-URL:https://thepaintandpour.com
X-WR-CALDESC:Events for Paint &amp; Pour
X-WR-TIMEZONE:America/Detroit
BEGIN:VEVENT
DTSTART;VALUE=DATE-TIME:20191026T190000
DTEND;VALUE=DATE-TIME:20191026T210000.000000
DTSTAMP:20260423T191140
CREATED:20190911T202513
LAST-MODIFIED:20190930T201415
UID:534141-1572116400-@https://thepaintandpour.com
SUMMARY:Northern Michigan - Oct 26th 7-9 PM
DESCRIPTION:Northern Michigan
LOCATION:5 S Washington St, Ypsilanti, MI, 48197, United States
URL:https://thepaintandpour.com/event/northern-michigan-oct-26th-7-9-pm/
END:VEVENT
END:VCALENDAR