BEGIN:VCALENDAR
VERSION:2.0
PRODID:-//Paint &amp; Pour - ECPv2.0.11//NONSGML v1.0//EN
CALSCALE:GREGORIAN
METHOD:PUBLISH
X-WR-CALNAME:Paint &amp; Pour
X-ORIGINAL-URL:https://thepaintandpour.com
X-WR-CALDESC:Events for Paint &amp; Pour
X-WR-TIMEZONE:America/Detroit
BEGIN:VEVENT
DTSTART;VALUE=DATE-TIME:20180320T183000
DTEND;VALUE=DATE-TIME:20180320T213000.000000
DTSTAMP:20260423T154314
CREATED:20171229T010103
LAST-MODIFIED:20171229T010103
UID:374194-1521570600-@https://thepaintandpour.com
SUMMARY:Northern Michigan - Mar 20th 6:30-9:30 PM
DESCRIPTION:&nbsp;  Northern Michigan  &nbsp;    Are YOU interested in having a private party with us?    Paint and Pour offers an incredible new way to spice up your next event. Let our Entertainer/Instructors guide your guests through an evening of art and merriment\, and they’ll be sure to talk about it for weeks! Paint and Pour private parties are great for ANY event\, so don’t hesitate.    Call us at (734) 720-9777 or Contact Us today to schedule your Paint Party!
LOCATION:22000 Michigan Ave, Dearborn, MI, 48124, United States
URL:https://thepaintandpour.com/event/northern-michigan-mar-20th-630-930-pm/
END:VEVENT
END:VCALENDAR