BEGIN:VCALENDAR
VERSION:2.0
PRODID:-//Paint &amp; Pour - ECPv2.0.11//NONSGML v1.0//EN
CALSCALE:GREGORIAN
METHOD:PUBLISH
X-WR-CALNAME:Paint &amp; Pour
X-ORIGINAL-URL:https://thepaintandpour.com
X-WR-CALDESC:Events for Paint &amp; Pour
X-WR-TIMEZONE:America/Detroit
BEGIN:VEVENT
DTSTART;VALUE=DATE-TIME:20180602T183000
DTEND;VALUE=DATE-TIME:20180602T213000.000000
DTSTAMP:20260424T043344
CREATED:20180409T001301
LAST-MODIFIED:20180424T173748
UID:384836-1527964200-@https://thepaintandpour.com
SUMMARY:Northern Michigan - Jun 2nd 6:30-9:30 PM
DESCRIPTION:&nbsp;  Northern Michigan  &nbsp;
LOCATION:111 South West St, Brighton, MI, 48116, United States
URL:https://thepaintandpour.com/event/northern-michigan-jun-2nd-630-930-pm/
END:VEVENT
END:VCALENDAR