BEGIN:VCALENDAR
VERSION:2.0
PRODID:-//Paint &amp; Pour - ECPv2.0.11//NONSGML v1.0//EN
CALSCALE:GREGORIAN
METHOD:PUBLISH
X-WR-CALNAME:Paint &amp; Pour
X-ORIGINAL-URL:https://thepaintandpour.com
X-WR-CALDESC:Events for Paint &amp; Pour
X-WR-TIMEZONE:America/Detroit
BEGIN:VEVENT
DTSTART;VALUE=DATE-TIME:20180731T183000
DTEND;VALUE=DATE-TIME:20180731T213000.000000
DTSTAMP:20260424T144222
CREATED:20180507T224935
LAST-MODIFIED:20180507T224935
UID:391153-1533061800-@https://thepaintandpour.com
SUMMARY:Northern Michigan - Jul 31st 6:30-9:30 PM
DESCRIPTION:&nbsp;  Northern Michigan  &nbsp;    &nbsp;
LOCATION:22000 Michigan Ave, Dearborn, MI, 48124, United States
URL:https://thepaintandpour.com/event/northern-michigan-jul-31st-630-930-pm/
END:VEVENT
END:VCALENDAR