BEGIN:VCALENDAR
VERSION:2.0
PRODID:-//Paint &amp; Pour - ECPv2.0.11//NONSGML v1.0//EN
CALSCALE:GREGORIAN
METHOD:PUBLISH
X-WR-CALNAME:Paint &amp; Pour
X-ORIGINAL-URL:https://thepaintandpour.com
X-WR-CALDESC:Events for Paint &amp; Pour
X-WR-TIMEZONE:America/Detroit
BEGIN:VEVENT
DTSTART;VALUE=DATE-TIME:20190620T190000
DTEND;VALUE=DATE-TIME:20190620T210000.000000
DTSTAMP:20260423T212605
CREATED:20190408T202358
LAST-MODIFIED:20190619T115452
UID:431713-1561057200-@https://thepaintandpour.com
SUMMARY:NEW!!! World of Wonder- Jun 20th 7-9 PM
DESCRIPTION:&nbsp;  World of Wonder  &nbsp;
LOCATION:22000 Michigan Ave, Dearborn, MI, 48124, United States
URL:https://thepaintandpour.com/event/new-world-of-wonder-jun-20th-7-9-pm/
END:VEVENT
END:VCALENDAR