BEGIN:VCALENDAR
VERSION:2.0
PRODID:-//Paint &amp; Pour - ECPv2.0.11//NONSGML v1.0//EN
CALSCALE:GREGORIAN
METHOD:PUBLISH
X-WR-CALNAME:Paint &amp; Pour
X-ORIGINAL-URL:https://thepaintandpour.com
X-WR-CALDESC:Events for Paint &amp; Pour
X-WR-TIMEZONE:America/Detroit
BEGIN:VEVENT
DTSTART;VALUE=DATE-TIME:20180512T153000
DTEND;VALUE=DATE-TIME:20180512T173000.000000
DTSTAMP:20260423T104510
CREATED:20180313T000111
LAST-MODIFIED:20180313T000111
UID:382475-1526139000-@https://thepaintandpour.com
SUMMARY:NEW!!! Welcoming Night - May 12th 3:30-5:30 PM
DESCRIPTION:&nbsp;  Welcoming Night  &nbsp;
LOCATION:111 South West St, Brighton, MI, 48116, United States
URL:https://thepaintandpour.com/event/new-welcoming-night-may-12th-330-530-pm/
END:VEVENT
END:VCALENDAR