BEGIN:VCALENDAR
VERSION:2.0
PRODID:-//Paint &amp; Pour - ECPv2.0.11//NONSGML v1.0//EN
CALSCALE:GREGORIAN
METHOD:PUBLISH
X-WR-CALNAME:Paint &amp; Pour
X-ORIGINAL-URL:https://thepaintandpour.com
X-WR-CALDESC:Events for Paint &amp; Pour
X-WR-TIMEZONE:America/Detroit
BEGIN:VEVENT
DTSTART;VALUE=DATE-TIME:20180902T180000
DTEND;VALUE=DATE-TIME:20180902T200000.000000
DTSTAMP:20260425T023351
CREATED:20180727T215449
LAST-MODIFIED:20180727T215449
UID:396564-1535911200-@https://thepaintandpour.com
SUMMARY:NEW!!! Sailing Reflections - Sep 2nd 6-8 PM
DESCRIPTION:&nbsp;  Sailing Reflections  &nbsp;
LOCATION:111 South West St, Brighton, MI, 48116, United States
URL:https://thepaintandpour.com/event/new-sailing-reflections-sep-2nd-6-8-pm/
END:VEVENT
END:VCALENDAR