BEGIN:VCALENDAR
VERSION:2.0
PRODID:-//Paint &amp; Pour - ECPv2.0.11//NONSGML v1.0//EN
CALSCALE:GREGORIAN
METHOD:PUBLISH
X-WR-CALNAME:Paint &amp; Pour
X-ORIGINAL-URL:https://thepaintandpour.com
X-WR-CALDESC:Events for Paint &amp; Pour
X-WR-TIMEZONE:America/Detroit
BEGIN:VEVENT
DTSTART;VALUE=DATE-TIME:20180921T190000
DTEND;VALUE=DATE-TIME:20180921T210000.000000
DTSTAMP:20260424T174309
CREATED:20180726T005433
LAST-MODIFIED:20180726T005433
UID:396388-1537556400-@https://thepaintandpour.com
SUMMARY:NEW!!! Sailing Reflections - Sep 21st 7-9 PM
DESCRIPTION:&nbsp;   Sailing Reflections  &nbsp;
LOCATION:22000 Michigan Ave, Dearborn, MI, 48124, United States
URL:https://thepaintandpour.com/event/new-sailing-reflections-sep-21st-7-9-pm/
END:VEVENT
END:VCALENDAR