BEGIN:VCALENDAR
VERSION:2.0
PRODID:-//Paint &amp; Pour - ECPv2.0.11//NONSGML v1.0//EN
CALSCALE:GREGORIAN
METHOD:PUBLISH
X-WR-CALNAME:Paint &amp; Pour
X-ORIGINAL-URL:https://thepaintandpour.com
X-WR-CALDESC:Events for Paint &amp; Pour
X-WR-TIMEZONE:America/Detroit
BEGIN:VEVENT
DTSTART;VALUE=DATE-TIME:20190601T190000
DTEND;VALUE=DATE-TIME:20190601T210000.000000
DTSTAMP:20260421T142717
CREATED:20190408T204900
LAST-MODIFIED:20190408T204900
UID:431741-1559415600-@https://thepaintandpour.com
SUMMARY:NEW!!! Rhapsody in Red - Jun 1st 7-9 PM
DESCRIPTION:&nbsp;  Rhapsody in Red  &nbsp;
LOCATION:22000 Michigan Ave, Dearborn, MI, 48124, United States
URL:https://thepaintandpour.com/event/new-rhapsody-in-red-jun-1st-7-9-pm/
END:VEVENT
END:VCALENDAR