BEGIN:VCALENDAR
VERSION:2.0
PRODID:-//Paint &amp; Pour - ECPv2.0.11//NONSGML v1.0//EN
CALSCALE:GREGORIAN
METHOD:PUBLISH
X-WR-CALNAME:Paint &amp; Pour
X-ORIGINAL-URL:https://thepaintandpour.com
X-WR-CALDESC:Events for Paint &amp; Pour
X-WR-TIMEZONE:America/Detroit
BEGIN:VEVENT
DTSTART;VALUE=DATE-TIME:20180903T180000
DTEND;VALUE=DATE-TIME:20180903T200000.000000
DTSTAMP:20260421T142618
CREATED:20180725T000504
LAST-MODIFIED:20180903T153601
UID:396328-1535997600-@https://thepaintandpour.com
SUMMARY:NEW!!! Midnight Watcher - Sep 3rd 6-8 PM
DESCRIPTION:&nbsp;  Midnight Watcher
LOCATION:22000 Michigan Ave, Dearborn, MI, 48124, United States
URL:https://thepaintandpour.com/event/new-midnight-watcher-sep-3rd-6-8-pm/
END:VEVENT
END:VCALENDAR