BEGIN:VCALENDAR
VERSION:2.0
PRODID:-//Paint &amp; Pour - ECPv2.0.11//NONSGML v1.0//EN
CALSCALE:GREGORIAN
METHOD:PUBLISH
X-WR-CALNAME:Paint &amp; Pour
X-ORIGINAL-URL:https://thepaintandpour.com
X-WR-CALDESC:Events for Paint &amp; Pour
X-WR-TIMEZONE:America/Detroit
BEGIN:VEVENT
DTSTART;VALUE=DATE-TIME:20181025T190000
DTEND;VALUE=DATE-TIME:20181025T210000.000000
DTSTAMP:20260425T022241
CREATED:20180814T001903
LAST-MODIFIED:20181025T172018
UID:397808-1540494000-@https://thepaintandpour.com
SUMMARY:NEW!!! Goddess Power - Oct 25th 7-9 PM
DESCRIPTION:&nbsp;  Goddess Power  With LAUREN!  &nbsp;
LOCATION:111 South West St, Brighton, MI, 48116, United States
URL:https://thepaintandpour.com/event/new-goddess-power-oct-25th-7-9-pm/
END:VEVENT
END:VCALENDAR