BEGIN:VCALENDAR
VERSION:2.0
PRODID:-//Paint &amp; Pour - ECPv2.0.11//NONSGML v1.0//EN
CALSCALE:GREGORIAN
METHOD:PUBLISH
X-WR-CALNAME:Paint &amp; Pour
X-ORIGINAL-URL:https://thepaintandpour.com
X-WR-CALDESC:Events for Paint &amp; Pour
X-WR-TIMEZONE:America/Detroit
BEGIN:VEVENT
DTSTART;VALUE=DATE-TIME:20180616T190000
DTEND;VALUE=DATE-TIME:20180616T210000.000000
DTSTAMP:20260419T161227
CREATED:20180412T001037
LAST-MODIFIED:20180616T150653
UID:388040-1529175600-@https://thepaintandpour.com
SUMMARY:NEW!!! Dreamscape - Jun 16th 7-9 PM
DESCRIPTION:&nbsp;  Dreamscape  &nbsp;    &nbsp;
LOCATION:5 S Washington St, Ypsilanti, MI, 48197, United States
URL:https://thepaintandpour.com/event/new-dreamscape-jun-16th-7-9-pm/
END:VEVENT
END:VCALENDAR