BEGIN:VCALENDAR
VERSION:2.0
PRODID:-//Paint &amp; Pour - ECPv2.0.11//NONSGML v1.0//EN
CALSCALE:GREGORIAN
METHOD:PUBLISH
X-WR-CALNAME:Paint &amp; Pour
X-ORIGINAL-URL:https://thepaintandpour.com
X-WR-CALDESC:Events for Paint &amp; Pour
X-WR-TIMEZONE:America/Detroit
BEGIN:VEVENT
DTSTART;VALUE=DATE-TIME:20181001T140000
DTEND;VALUE=DATE-TIME:20181001T160000.000000
DTSTAMP:20260424T210832
CREATED:20180920T152552
LAST-MODIFIED:20180921T155002
UID:402592-1538402400-@https://thepaintandpour.com
SUMMARY:New Corner Group - The Way Home - Oct 1st 2-4 PM
DESCRIPTION:The Way Home  New Corner Group  PRIVATE PARTY
LOCATION:5 S Washington St, Ypsilanti, MI, 48197, United States
URL:https://thepaintandpour.com/event/new-corner-group-the-way-home-oct-1st-2-4-pm/
END:VEVENT
END:VCALENDAR