BEGIN:VCALENDAR
VERSION:2.0
PRODID:-//Paint &amp; Pour - ECPv2.0.11//NONSGML v1.0//EN
CALSCALE:GREGORIAN
METHOD:PUBLISH
X-WR-CALNAME:Paint &amp; Pour
X-ORIGINAL-URL:https://thepaintandpour.com
X-WR-CALDESC:Events for Paint &amp; Pour
X-WR-TIMEZONE:America/Detroit
BEGIN:VEVENT
DTSTART;VALUE=DATE-TIME:20180306T183000
DTEND;VALUE=DATE-TIME:20180306T213000.000000
DTSTAMP:20260423T110519
CREATED:20171229T005354
LAST-MODIFIED:20171229T005354
UID:374190-1520361000-@https://thepaintandpour.com
SUMMARY:NEW!!! Alpine Spring - Mar 6th 6:30-9:30 PM
DESCRIPTION:&nbsp;  Alpine Spring  &nbsp;    Are YOU interested in having a private party with us?    Paint and Pour offers an incredible new way to spice up your next event. Let our Entertainer/Instructors guide your guests through an evening of art and merriment\, and they’ll be sure to talk about it for weeks! Paint and Pour private parties are great for ANY event\, so don’t hesitate.    Call us at (734) 720-9777 or Contact Us today to schedule your Paint Party!
LOCATION:22000 Michigan Ave, Dearborn, MI, 48124, United States
URL:https://thepaintandpour.com/event/new-alpine-spring-mar-6th-630-930-pm/
END:VEVENT
END:VCALENDAR