BEGIN:VCALENDAR
VERSION:2.0
PRODID:-//Paint &amp; Pour - ECPv2.0.11//NONSGML v1.0//EN
CALSCALE:GREGORIAN
METHOD:PUBLISH
X-WR-CALNAME:Paint &amp; Pour
X-ORIGINAL-URL:https://thepaintandpour.com
X-WR-CALDESC:Events for Paint &amp; Pour
X-WR-TIMEZONE:America/Detroit
BEGIN:VEVENT
DTSTART;VALUE=DATE-TIME:20181020T120000
DTEND;VALUE=DATE-TIME:20181020T140000.000000
DTSTAMP:20260424T013554
CREATED:20180914T192431
LAST-MODIFIED:20181019T203929
UID:402000-1540036800-@https://thepaintandpour.com
SUMMARY:Neuro Restorative - Scaredy Cat 2 - Oct 20th 12-2 PM
DESCRIPTION:  Scaredy Cat 2  Neuro Restorative  PRIVATE PARTY  
LOCATION:111 South West St, Brighton, MI, 48116, United States
URL:https://thepaintandpour.com/event/neuro-restorative-scaredy-cat-2-oct-20th-12-2-pm/
END:VEVENT
END:VCALENDAR