BEGIN:VCALENDAR
VERSION:2.0
PRODID:-//Paint &amp; Pour - ECPv2.0.11//NONSGML v1.0//EN
CALSCALE:GREGORIAN
METHOD:PUBLISH
X-WR-CALNAME:Paint &amp; Pour
X-ORIGINAL-URL:https://thepaintandpour.com
X-WR-CALDESC:Events for Paint &amp; Pour
X-WR-TIMEZONE:America/Detroit
BEGIN:VEVENT
DTSTART;VALUE=DATE-TIME:20180615T190000
DTEND;VALUE=DATE-TIME:20180615T210000.000000
DTSTAMP:20260425T035758
CREATED:20180405T235139
LAST-MODIFIED:20180615T195819
UID:384517-1529089200-@https://thepaintandpour.com
SUMMARY:Mountain Dawn - Jun 15th 7-9 PM
DESCRIPTION:&nbsp;  Mountain Dawn  &nbsp;
LOCATION:22000 Michigan Ave, Dearborn, MI, 48124, United States
URL:https://thepaintandpour.com/event/mountain-dawn-jun-15th-7-9-pm/
END:VEVENT
END:VCALENDAR