BEGIN:VCALENDAR
VERSION:2.0
PRODID:-//Paint &amp; Pour - ECPv2.0.11//NONSGML v1.0//EN
CALSCALE:GREGORIAN
METHOD:PUBLISH
X-WR-CALNAME:Paint &amp; Pour
X-ORIGINAL-URL:https://thepaintandpour.com
X-WR-CALDESC:Events for Paint &amp; Pour
X-WR-TIMEZONE:America/Detroit
BEGIN:VEVENT
DTSTART;VALUE=DATE-TIME:20180917T180000
DTEND;VALUE=DATE-TIME:20180917T200000.000000
DTSTAMP:20260423T223410
CREATED:20180725T001052
LAST-MODIFIED:20180725T001052
UID:396332-1537207200-@https://thepaintandpour.com
SUMMARY:Motown Sunset - Sep 17th 6-8 PM
DESCRIPTION:&nbsp;  Motown Sunset
LOCATION:22000 Michigan Ave, Dearborn, MI, 48124, United States
URL:https://thepaintandpour.com/event/motown-sunset-sep-17th-6-8-pm/
END:VEVENT
END:VCALENDAR