BEGIN:VCALENDAR
VERSION:2.0
PRODID:-//Paint &amp; Pour - ECPv2.0.11//NONSGML v1.0//EN
CALSCALE:GREGORIAN
METHOD:PUBLISH
X-WR-CALNAME:Paint &amp; Pour
X-ORIGINAL-URL:https://thepaintandpour.com
X-WR-CALDESC:Events for Paint &amp; Pour
X-WR-TIMEZONE:America/Detroit
BEGIN:VEVENT
DTSTART;VALUE=DATE-TIME:20180629T190000
DTEND;VALUE=DATE-TIME:20180629T210000.000000
DTSTAMP:20260425T113707
CREATED:20180412T132045
LAST-MODIFIED:20180628T135334
UID:388100-1530298800-@https://thepaintandpour.com
SUMMARY:Motown Sunset - Jun 29th 7-9 PM
DESCRIPTION:Motown Sunset  &nbsp;    &nbsp;
LOCATION:5 S Washington St, Ypsilanti, MI, 48197, United States
URL:https://thepaintandpour.com/event/motown-sunset-jun-29th-7-9-pm/
END:VEVENT
END:VCALENDAR