BEGIN:VCALENDAR
VERSION:2.0
PRODID:-//Paint &amp; Pour - ECPv2.0.11//NONSGML v1.0//EN
CALSCALE:GREGORIAN
METHOD:PUBLISH
X-WR-CALNAME:Paint &amp; Pour
X-ORIGINAL-URL:https://thepaintandpour.com
X-WR-CALDESC:Events for Paint &amp; Pour
X-WR-TIMEZONE:America/Detroit
BEGIN:VEVENT
DTSTART;VALUE=DATE-TIME:20180427T190000
DTEND;VALUE=DATE-TIME:20180427T210000.000000
DTSTAMP:20260425T040921
CREATED:20180215T014953
LAST-MODIFIED:20180404T134438
UID:380029-1524855600-@https://thepaintandpour.com
SUMMARY:Moonlit Streets - Apr 27th 7-9 PM
DESCRIPTION:&nbsp;  Moonlit Streets  &nbsp;    &nbsp;
LOCATION:10866 Cedar Lake Rd, Pinckney, MI, 48169, United States
URL:https://thepaintandpour.com/event/moonlit-streets-apr-27th-7-9-pm/
END:VEVENT
END:VCALENDAR