BEGIN:VCALENDAR
VERSION:2.0
PRODID:-//Paint &amp; Pour - ECPv2.0.11//NONSGML v1.0//EN
CALSCALE:GREGORIAN
METHOD:PUBLISH
X-WR-CALNAME:Paint &amp; Pour
X-ORIGINAL-URL:https://thepaintandpour.com
X-WR-CALDESC:Events for Paint &amp; Pour
X-WR-TIMEZONE:America/Detroit
BEGIN:VEVENT
DTSTART;VALUE=DATE-TIME:20180817T190000
DTEND;VALUE=DATE-TIME:20180817T210000.000000
DTSTAMP:20260424T142345
CREATED:20180611T235546
LAST-MODIFIED:20180611T235546
UID:393914-1534532400-@https://thepaintandpour.com
SUMMARY:Moonlit Street - Aug 17th 7-9 PM
DESCRIPTION:&nbsp;  Moonlit Street  &nbsp;
LOCATION:22000 Michigan Ave, Dearborn, MI, 48124, United States
URL:https://thepaintandpour.com/event/moonlit-street-aug-17th-7-9-pm/
END:VEVENT
END:VCALENDAR