BEGIN:VCALENDAR
VERSION:2.0
PRODID:-//Paint &amp; Pour - ECPv2.0.11//NONSGML v1.0//EN
CALSCALE:GREGORIAN
METHOD:PUBLISH
X-WR-CALNAME:Paint &amp; Pour
X-ORIGINAL-URL:https://thepaintandpour.com
X-WR-CALDESC:Events for Paint &amp; Pour
X-WR-TIMEZONE:America/Detroit
BEGIN:VEVENT
DTSTART;VALUE=DATE-TIME:20190928T190000
DTEND;VALUE=DATE-TIME:20190928T210000.000000
DTSTAMP:20260423T221558
CREATED:20190819T142504
LAST-MODIFIED:20190926T184038
UID:503682-1569697200-@https://thepaintandpour.com
SUMMARY:Moon Glow - Sep 28th 7-9 PM
DESCRIPTION:Moon Glow
LOCATION:5 S Washington St, Ypsilanti, MI, 48197, United States
URL:https://thepaintandpour.com/event/moon-glow-sep-28th-7-9-pm/
END:VEVENT
END:VCALENDAR