BEGIN:VCALENDAR
VERSION:2.0
PRODID:-//Paint &amp; Pour - ECPv2.0.11//NONSGML v1.0//EN
CALSCALE:GREGORIAN
METHOD:PUBLISH
X-WR-CALNAME:Paint &amp; Pour
X-ORIGINAL-URL:https://thepaintandpour.com
X-WR-CALDESC:Events for Paint &amp; Pour
X-WR-TIMEZONE:America/Detroit
BEGIN:VEVENT
DTSTART;VALUE=DATE-TIME:20190512T140000
DTEND;VALUE=DATE-TIME:20190512T160000.000000
DTSTAMP:20260423T124156
CREATED:20190321T202611
LAST-MODIFIED:20190321T202611
UID:429575-1557669600-@https://thepaintandpour.com
SUMMARY:Mommy & Me - Follow the Leader - May 12th 2-4 pm (Ages 5+)
DESCRIPTION:&nbsp;  Follow the Leader  For Ages 5+  &nbsp;    &nbsp;    For this special family class\, kids and adults paint together to complete a special one of a kind keepsake painting! Mama Elephant will be waiting on a 16x20 canvas (for the adults) and all her little ones will follow along on 11x14 canvases (for the kids)! There is no limit to the number of little ones that can follow\, select the size and number you would like of each painting in the ticket field below.
LOCATION:5 S Washington St, Ypsilanti, MI, 48197, United States
URL:https://thepaintandpour.com/event/mommy-me-follow-the-leader-may-12th-2-4-pm-ages-5/
END:VEVENT
END:VCALENDAR