BEGIN:VCALENDAR
VERSION:2.0
PRODID:-//Paint &amp; Pour - ECPv2.0.11//NONSGML v1.0//EN
CALSCALE:GREGORIAN
METHOD:PUBLISH
X-WR-CALNAME:Paint &amp; Pour
X-ORIGINAL-URL:https://thepaintandpour.com
X-WR-CALDESC:Events for Paint &amp; Pour
X-WR-TIMEZONE:America/Detroit
BEGIN:VEVENT
DTSTART;VALUE=DATE-TIME:20180422T153000
DTEND;VALUE=DATE-TIME:20180422T173000.000000
DTSTAMP:20260424T100810
CREATED:20180409T170441
LAST-MODIFIED:20180412T130439
UID:384865-1524411000-@https://thepaintandpour.com
SUMMARY:Miz Reds Birthday - Apology Accepted - Apr 22nd 3:30-5:30 PM
DESCRIPTION:Apology Accepted  Miz Reds Birthday  PRIVATE PARTY  We are celebrating Iris's birthday\, per her request\, with a paint and pour event!  We will have a great time &amp; laugh til it hurts!!  Please join us!! We will be meeting at Iris's or you can just meet us at the Paint &amp; Pour!  Can't wait to see you soon!
LOCATION:5 S Washington St, Ypsilanti, MI, 48197, United States
URL:https://thepaintandpour.com/event/miz-reds-birthday-apology-accepted-apr-22nd-330-530-pm/
END:VEVENT
END:VCALENDAR