BEGIN:VCALENDAR
VERSION:2.0
PRODID:-//Paint &amp; Pour - ECPv2.0.11//NONSGML v1.0//EN
CALSCALE:GREGORIAN
METHOD:PUBLISH
X-WR-CALNAME:Paint &amp; Pour
X-ORIGINAL-URL:https://thepaintandpour.com
X-WR-CALDESC:Events for Paint &amp; Pour
X-WR-TIMEZONE:America/Detroit
BEGIN:VEVENT
DTSTART;VALUE=DATE-TIME:20190113T180000
DTEND;VALUE=DATE-TIME:20190113T200000.000000
DTSTAMP:20260424T205157
CREATED:20181115T122036
LAST-MODIFIED:20181115T122036
UID:412508-1547402400-@https://thepaintandpour.com
SUMMARY:Misty Lake - Jan 13th 6-8 PM
DESCRIPTION:&nbsp;  Misty Lake  &nbsp;
LOCATION:111 South West St, Brighton, MI, 48116, United States
URL:https://thepaintandpour.com/event/misty-lake-jan-13th-6-8-pm/
END:VEVENT
END:VCALENDAR