BEGIN:VCALENDAR
VERSION:2.0
PRODID:-//Paint &amp; Pour - ECPv2.0.11//NONSGML v1.0//EN
CALSCALE:GREGORIAN
METHOD:PUBLISH
X-WR-CALNAME:Paint &amp; Pour
X-ORIGINAL-URL:https://thepaintandpour.com
X-WR-CALDESC:Events for Paint &amp; Pour
X-WR-TIMEZONE:America/Detroit
BEGIN:VEVENT
DTSTART;VALUE=DATE-TIME:20181229T190000
DTEND;VALUE=DATE-TIME:20181229T210000.000000
DTSTAMP:20260423T190726
CREATED:20181014T021123
LAST-MODIFIED:20181014T022003
UID:404502-1546110000-@https://thepaintandpour.com
SUMMARY:Midnight Watcher - Dec 29th 7-9 PM
DESCRIPTION:&nbsp;  Midnight Watcher  &nbsp;
LOCATION:111 South West St, Brighton, MI, 48116, United States
URL:https://thepaintandpour.com/event/midnight-watcher-dec-29th-7-9-pm-2/
END:VEVENT
END:VCALENDAR