BEGIN:VCALENDAR
VERSION:2.0
PRODID:-//Paint &amp; Pour - ECPv2.0.11//NONSGML v1.0//EN
CALSCALE:GREGORIAN
METHOD:PUBLISH
X-WR-CALNAME:Paint &amp; Pour
X-ORIGINAL-URL:https://thepaintandpour.com
X-WR-CALDESC:Events for Paint &amp; Pour
X-WR-TIMEZONE:America/Detroit
BEGIN:VEVENT
DTSTART;VALUE=DATE-TIME:20181216T180000
DTEND;VALUE=DATE-TIME:20181216T200000.000000
DTSTAMP:20260425T125208
CREATED:20181009T221739
LAST-MODIFIED:20181218T133935
UID:404140-1544983200-@https://thepaintandpour.com
SUMMARY:Midnight Watcher - Dec 16th 6-8 PM
DESCRIPTION:&nbsp;  Midnight Watcher
LOCATION:22000 Michigan Ave, Dearborn, MI, 48124, United States
URL:https://thepaintandpour.com/event/midnight-watcher-dec-16th-6-8-pm/
END:VEVENT
END:VCALENDAR