BEGIN:VCALENDAR
VERSION:2.0
PRODID:-//Paint &amp; Pour - ECPv2.0.11//NONSGML v1.0//EN
CALSCALE:GREGORIAN
METHOD:PUBLISH
X-WR-CALNAME:Paint &amp; Pour
X-ORIGINAL-URL:https://thepaintandpour.com
X-WR-CALDESC:Events for Paint &amp; Pour
X-WR-TIMEZONE:America/Detroit
BEGIN:VEVENT
DTSTART;VALUE=DATE-TIME:20190824T190000
DTEND;VALUE=DATE-TIME:20190824T210000.000000
DTSTAMP:20260424T001334
CREATED:20190810T142627
LAST-MODIFIED:20190810T153931
UID:503565-1566673200-@https://thepaintandpour.com
SUMMARY:Megan's Bachelorette Party - Dandelion Wishes - Aug 24th 7-9 PM
DESCRIPTION:Dandelion Wishes  Please join us for Megan's Bachelorette Party! We will be painting from 7-9pm at Ypsilanti Studio\, 5 S Washington Ypsilanti. BYOB. Food and some wine will be provided.
LOCATION:5 S Washington St, Ypsilanti, MI, 48197, United States
URL:https://thepaintandpour.com/event/megans-bachelorette-party-dandelion-wishes-aug-24th-7-9-pm/
END:VEVENT
END:VCALENDAR