BEGIN:VCALENDAR
VERSION:2.0
PRODID:-//Paint &amp; Pour - ECPv2.0.11//NONSGML v1.0//EN
CALSCALE:GREGORIAN
METHOD:PUBLISH
X-WR-CALNAME:Paint &amp; Pour
X-ORIGINAL-URL:https://thepaintandpour.com
X-WR-CALDESC:Events for Paint &amp; Pour
X-WR-TIMEZONE:America/Detroit
BEGIN:VEVENT
DTSTART;VALUE=DATE-TIME:20190104T190000
DTEND;VALUE=DATE-TIME:20190104T210000.000000
DTSTAMP:20260419T131008
CREATED:20181218T150704
LAST-MODIFIED:20181218T150704
UID:420015-1546628400-@https://thepaintandpour.com
SUMMARY:Maia & Tomea's Birthday Party - Enchantress - Jan 4th 7-9 PM
DESCRIPTION:  Enchantress  Maia &amp; Tomea's Birthday Party  PRIVATE PARTY
LOCATION:22000 Michigan Ave, Dearborn, MI, 48124, United States
URL:https://thepaintandpour.com/event/maia-tomeas-birthday-party-enchantress-jan-4th-7-9-pm/
END:VEVENT
END:VCALENDAR