BEGIN:VCALENDAR
VERSION:2.0
PRODID:-//Paint &amp; Pour - ECPv2.0.11//NONSGML v1.0//EN
CALSCALE:GREGORIAN
METHOD:PUBLISH
X-WR-CALNAME:Paint &amp; Pour
X-ORIGINAL-URL:https://thepaintandpour.com
X-WR-CALDESC:Events for Paint &amp; Pour
X-WR-TIMEZONE:America/Detroit
BEGIN:VEVENT
DTSTART;VALUE=DATE-TIME:20181028T120000
DTEND;VALUE=DATE-TIME:20181028T140000.000000
DTSTAMP:20260424T163233
CREATED:20181005T181550
LAST-MODIFIED:20181005T181550
UID:403725-1540728000-@https://thepaintandpour.com
SUMMARY:Madeline's 8th Birthday Party - Rainbow Sunset - Oct 28th 12-2 PM
DESCRIPTION:  Rainbow Sunset  Madeline's 8th Birthday Party  PRIVATE PARTY
LOCATION:22000 Michigan Ave, Dearborn, MI, 48124, United States
URL:https://thepaintandpour.com/event/madelines-8th-birthday-party-rainbow-sunset-oct-28th-12-2-pm/
END:VEVENT
END:VCALENDAR