BEGIN:VCALENDAR
VERSION:2.0
PRODID:-//Paint &amp; Pour - ECPv2.0.11//NONSGML v1.0//EN
CALSCALE:GREGORIAN
METHOD:PUBLISH
X-WR-CALNAME:Paint &amp; Pour
X-ORIGINAL-URL:https://thepaintandpour.com
X-WR-CALDESC:Events for Paint &amp; Pour
X-WR-TIMEZONE:America/Detroit
BEGIN:VEVENT
DTSTART;VALUE=DATE-TIME:20190327T170000
DTEND;VALUE=DATE-TIME:20190327T190000.000000
DTSTAMP:20260424T050431
CREATED:20190313T174254
LAST-MODIFIED:20190326T152805
UID:428679-1553706000-@https://thepaintandpour.com
SUMMARY:Lois' Birthday - Wonderland - Mar 27th 5-7 PM
DESCRIPTION:Wonderland  Lois' Birthday  PRIVATE PARTY  
LOCATION:111 South West St, Brighton, MI, 48116, United States
URL:https://thepaintandpour.com/event/lois-birthday-wonderland-mar-27th-5-7-pm/
END:VEVENT
END:VCALENDAR