BEGIN:VCALENDAR
VERSION:2.0
PRODID:-//Paint &amp; Pour - ECPv2.0.11//NONSGML v1.0//EN
CALSCALE:GREGORIAN
METHOD:PUBLISH
X-WR-CALNAME:Paint &amp; Pour
X-ORIGINAL-URL:https://thepaintandpour.com
X-WR-CALDESC:Events for Paint &amp; Pour
X-WR-TIMEZONE:America/Detroit
BEGIN:VEVENT
DTSTART;VALUE=DATE-TIME:20181202T140000
DTEND;VALUE=DATE-TIME:20181202T160000.000000
DTSTAMP:20260423T141045
CREATED:20181127T222953
LAST-MODIFIED:20181128T194713
UID:414354-1543759200-@https://thepaintandpour.com
SUMMARY:Lea's 9th Birthday Party - Rainbow Sunset - Dec 2nd 2-4 PM
DESCRIPTION:  Rainbow Sunset  Lea's 9th Birthday Party  PRIVATE PARTY
LOCATION:22000 Michigan Ave, Dearborn, MI, 48124, United States
URL:https://thepaintandpour.com/event/leas-9th-birthday-party-rainbow-sunset-dec-2nd-2-4-pm/
END:VEVENT
END:VCALENDAR