BEGIN:VCALENDAR
VERSION:2.0
PRODID:-//Paint &amp; Pour - ECPv2.0.11//NONSGML v1.0//EN
CALSCALE:GREGORIAN
METHOD:PUBLISH
X-WR-CALNAME:Paint &amp; Pour
X-ORIGINAL-URL:https://thepaintandpour.com
X-WR-CALDESC:Events for Paint &amp; Pour
X-WR-TIMEZONE:America/Detroit
BEGIN:VEVENT
DTSTART;VALUE=DATE-TIME:20181025T190000
DTEND;VALUE=DATE-TIME:20181025T210000.000000
DTSTAMP:20260421T155145
CREATED:20180810T012538
LAST-MODIFIED:20181024T164315
UID:397531-1540494000-@https://thepaintandpour.com
SUMMARY:Lavender Dreams - Oct 25th 7-9 PM
DESCRIPTION:&nbsp;  Lavender Dreams  With BRUCE!  &nbsp;
LOCATION:22000 Michigan Ave, Dearborn, MI, 48124, United States
URL:https://thepaintandpour.com/event/lavender-dreams-oct-25th-7-9-pm/
END:VEVENT
END:VCALENDAR