BEGIN:VCALENDAR
VERSION:2.0
PRODID:-//Paint &amp; Pour - ECPv2.0.11//NONSGML v1.0//EN
CALSCALE:GREGORIAN
METHOD:PUBLISH
X-WR-CALNAME:Paint &amp; Pour
X-ORIGINAL-URL:https://thepaintandpour.com
X-WR-CALDESC:Events for Paint &amp; Pour
X-WR-TIMEZONE:America/Detroit
BEGIN:VEVENT
DTSTART;VALUE=DATE-TIME:20190112T220000
DTEND;VALUE=DATE-TIME:20190113T000000.000000
DTSTAMP:20260423T112432
CREATED:20190104T162613
LAST-MODIFIED:20190110T143406
UID:421600-1547330400-@https://thepaintandpour.com
SUMMARY:Kyla's Bachelorette Party - Glass Painting - Jan 12th 10 PM - 12 AM
DESCRIPTION:&nbsp;  Glass Painting  Kyla's Bachelorette Party  PRIVATE PARTY  Laura Willoughby's House  5900 N. Maple Rd.  Saline\, MI 48176  
LOCATION:MI, United States
URL:https://thepaintandpour.com/event/kylas-bachelorette-party-glass-painting-jan-12th-10-pm-12-am/
END:VEVENT
END:VCALENDAR