BEGIN:VCALENDAR
VERSION:2.0
PRODID:-//Paint &amp; Pour - ECPv2.0.11//NONSGML v1.0//EN
CALSCALE:GREGORIAN
METHOD:PUBLISH
X-WR-CALNAME:Paint &amp; Pour
X-ORIGINAL-URL:https://thepaintandpour.com
X-WR-CALDESC:Events for Paint &amp; Pour
X-WR-TIMEZONE:America/Detroit
BEGIN:VEVENT
DTSTART;VALUE=DATE-TIME:20180817T190000
DTEND;VALUE=DATE-TIME:20180817T210000.000000
DTSTAMP:20260424T082615
CREATED:20180723T162112
LAST-MODIFIED:20180727T165159
UID:396148-1534532400-@https://thepaintandpour.com
SUMMARY:Kate's Bachelorette Party - Palm at Sunset - Aug 17th 7-9 PM
DESCRIPTION:  Palm at Sunset  Kate's Bachelorette Party  PRIVATE PARTY  Kate's Bachelorette Party! Sit\, sip\, paint &amp; have a good time before Kate ties the knot!
LOCATION:5 S Washington St, Ypsilanti, MI, 48197, United States
URL:https://thepaintandpour.com/event/kates-bachelorette-party-palm-at-sunset-aug-17th-7-9-pm/
END:VEVENT
END:VCALENDAR