BEGIN:VCALENDAR
VERSION:2.0
PRODID:-//Paint &amp; Pour - ECPv2.0.11//NONSGML v1.0//EN
CALSCALE:GREGORIAN
METHOD:PUBLISH
X-WR-CALNAME:Paint &amp; Pour
X-ORIGINAL-URL:https://thepaintandpour.com
X-WR-CALDESC:Events for Paint &amp; Pour
X-WR-TIMEZONE:America/Detroit
BEGIN:VEVENT
DTSTART;VALUE=DATE-TIME:20180126T190000
DTEND;VALUE=DATE-TIME:20180126T210000.000000
DTSTAMP:20260423T112228
CREATED:20180116T174430
LAST-MODIFIED:20180123T135837
UID:375846-1516993200-@https://thepaintandpour.com
SUMMARY:Karen's Birthday Party - Dock of the Bay - Jan 26th 7-9 PM
DESCRIPTION:Dock of the Bay  Karen's Birthday Party  PRIVATE PARTY  Karen's 60th Birthday Bash!  Are YOU interested in having a private party with us?  Paint and Pour offers an incredible new way to spice up your next event. Let our Entertainer/Instructors guide your guests through an evening of art and merriment\, and they’ll be sure to talk about it for weeks! Paint and Pour private parties are great for ANY event\, so don’t hesitate.  Call us at (734) 720-9777 or Contact Us today to schedule your Paint Party!
LOCATION:111 South West St, Brighton, MI, 48116, United States
URL:https://thepaintandpour.com/event/karens-birthday-party-dock-of-the-bay-jan-26th-7-9-pm/
END:VEVENT
END:VCALENDAR