BEGIN:VCALENDAR
VERSION:2.0
PRODID:-//Paint &amp; Pour - ECPv2.0.11//NONSGML v1.0//EN
CALSCALE:GREGORIAN
METHOD:PUBLISH
X-WR-CALNAME:Paint &amp; Pour
X-ORIGINAL-URL:https://thepaintandpour.com
X-WR-CALDESC:Events for Paint &amp; Pour
X-WR-TIMEZONE:America/Detroit
BEGIN:VEVENT
DTSTART;VALUE=DATE-TIME:20200502T130000
DTEND;VALUE=DATE-TIME:20200502T150000.000000
DTSTAMP:20260423T224748
CREATED:20200316T143505
LAST-MODIFIED:20200316T143505
UID:536605-1588424400-@https://thepaintandpour.com
SUMMARY:Kaley's Bridal Shower - Glassware - May 2nd 1-3 PM
DESCRIPTION:Glassware  Kaley's Bridal Shower  &nbsp;    &nbsp;
LOCATION:MI
URL:https://thepaintandpour.com/event/kaleys-bridal-shower-glassware-may-2nd-1-3-pm/
END:VEVENT
END:VCALENDAR