BEGIN:VCALENDAR
VERSION:2.0
PRODID:-//Paint &amp; Pour - ECPv2.0.11//NONSGML v1.0//EN
CALSCALE:GREGORIAN
METHOD:PUBLISH
X-WR-CALNAME:Paint &amp; Pour
X-ORIGINAL-URL:https://thepaintandpour.com
X-WR-CALDESC:Events for Paint &amp; Pour
X-WR-TIMEZONE:America/Detroit
BEGIN:VEVENT
DTSTART;VALUE=DATE-TIME:20180825T150000
DTEND;VALUE=DATE-TIME:20180825T170000.000000
DTSTAMP:20260420T101242
CREATED:20180821T185419
LAST-MODIFIED:20180822T153057
UID:400423-1535209200-@https://thepaintandpour.com
SUMMARY:Jill's Birthday Party - Tipsy Mondrian - Aug 25th 3-5 PM
DESCRIPTION:Tipsy Mondrian  Jill's Birthday Party  PRIVATE PARTY
LOCATION:5 S Washington St, Ypsilanti, MI, 48197, United States
URL:https://thepaintandpour.com/event/jills-birthday-party-tipsy-mondrian-aug-25th-3-5-pm/
END:VEVENT
END:VCALENDAR