BEGIN:VCALENDAR
VERSION:2.0
PRODID:-//Paint &amp; Pour - ECPv2.0.11//NONSGML v1.0//EN
CALSCALE:GREGORIAN
METHOD:PUBLISH
X-WR-CALNAME:Paint &amp; Pour
X-ORIGINAL-URL:https://thepaintandpour.com
X-WR-CALDESC:Events for Paint &amp; Pour
X-WR-TIMEZONE:America/Detroit
BEGIN:VEVENT
DTSTART;VALUE=DATE-TIME:20190316T180000
DTEND;VALUE=DATE-TIME:20190316T200000.000000
DTSTAMP:20260420T083012
CREATED:20190225T125532
LAST-MODIFIED:20190225T125532
UID:427032-1552759200-@https://thepaintandpour.com
SUMMARY:Ish's Birthday Celebration - CPL Key to my Heart - Mar 16th 6-8 PM
DESCRIPTION:  Key to My Heart  Ish's Birthday Celebration  PRIVATE PARTY
LOCATION:22000 Michigan Ave, Dearborn, MI, 48124, United States
URL:https://thepaintandpour.com/event/ishs-birthday-celebration-cpl-key-to-my-heart-mar-16th-6-8-pm/
END:VEVENT
END:VCALENDAR