BEGIN:VCALENDAR
VERSION:2.0
PRODID:-//Paint &amp; Pour - ECPv2.0.11//NONSGML v1.0//EN
CALSCALE:GREGORIAN
METHOD:PUBLISH
X-WR-CALNAME:Paint &amp; Pour
X-ORIGINAL-URL:https://thepaintandpour.com
X-WR-CALDESC:Events for Paint &amp; Pour
X-WR-TIMEZONE:America/Detroit
BEGIN:VEVENT
DTSTART;VALUE=DATE-TIME:20190602T190000
DTEND;VALUE=DATE-TIME:20190602T210000.000000
DTSTAMP:20260423T084332
CREATED:20190529T143752
LAST-MODIFIED:20190529T143752
UID:436835-1559502000-@https://thepaintandpour.com
SUMMARY:Inka's Booze And Brushes Birthday Party - Lavender Lake - Jun 2nd 7-9 PM
DESCRIPTION:Lavender Lake  Inka's Booze And Brushes Birthday Party  PRIVATE PARTY
LOCATION:22000 Michigan Ave, Dearborn, MI, 48124, United States
URL:https://thepaintandpour.com/event/inkas-booze-and-brushes-birthday-party-lavender-lake-jun-2nd-7-9-pm/
END:VEVENT
END:VCALENDAR