BEGIN:VCALENDAR
VERSION:2.0
PRODID:-//Paint &amp; Pour - ECPv2.0.11//NONSGML v1.0//EN
CALSCALE:GREGORIAN
METHOD:PUBLISH
X-WR-CALNAME:Paint &amp; Pour
X-ORIGINAL-URL:https://thepaintandpour.com
X-WR-CALDESC:Events for Paint &amp; Pour
X-WR-TIMEZONE:America/Detroit
BEGIN:VEVENT
DTSTART;VALUE=DATE-TIME:20181020T153000
DTEND;VALUE=DATE-TIME:20181020T173000.000000
DTSTAMP:20260424T044525
CREATED:20180920T150325
LAST-MODIFIED:20180920T150610
UID:402575-1540049400-@https://thepaintandpour.com
SUMMARY:Ian's 8th Birthday - Charlemander - Oct 20th 3:30-5:30 PM
DESCRIPTION:  Charlemander  Ian's 8th Birthday  PRIVATE PARTY
LOCATION:111 South West St, Brighton, MI, 48116, United States
URL:https://thepaintandpour.com/event/ians-8th-birthday-charlemander-oct-20th-330-530-pm/
END:VEVENT
END:VCALENDAR