BEGIN:VCALENDAR
VERSION:2.0
PRODID:-//Paint &amp; Pour - ECPv2.0.11//NONSGML v1.0//EN
CALSCALE:GREGORIAN
METHOD:PUBLISH
X-WR-CALNAME:Paint &amp; Pour
X-ORIGINAL-URL:https://thepaintandpour.com
X-WR-CALDESC:Events for Paint &amp; Pour
X-WR-TIMEZONE:America/Detroit
BEGIN:VEVENT
DTSTART;VALUE=DATE-TIME:20191006T180000
DTEND;VALUE=DATE-TIME:20191006T200000.000000
DTSTAMP:20260424T063404
CREATED:20190910T160836
LAST-MODIFIED:20191006T022524
UID:534106-1570384800-@https://thepaintandpour.com
SUMMARY:Hope Blooms OR Hummingbird Haven - Oct 6th 6-8 PM
DESCRIPTION:&nbsp;  Hope Blooms OR Hummingbird Haven  Tonight\, we offer a choice between one of these two paintings! Come join us for some fun and adventures in painting! As always event is BYOB!  *Please purchase the ticket for the painting you wish to complete as they will be hand sketched ahead of time!  &nbsp;
LOCATION:5 S Washington St, Ypsilanti, MI, 48197, United States
URL:https://thepaintandpour.com/event/hope-blooms-or-hummingbird-haven-oct-6th-6-8-pm/
END:VEVENT
END:VCALENDAR