BEGIN:VCALENDAR
VERSION:2.0
PRODID:-//Paint &amp; Pour - ECPv2.0.11//NONSGML v1.0//EN
CALSCALE:GREGORIAN
METHOD:PUBLISH
X-WR-CALNAME:Paint &amp; Pour
X-ORIGINAL-URL:https://thepaintandpour.com
X-WR-CALDESC:Events for Paint &amp; Pour
X-WR-TIMEZONE:America/Detroit
BEGIN:VEVENT
DTSTART;VALUE=DATE-TIME:20200201T150000
DTEND;VALUE=DATE-TIME:20200201T170000.000000
DTSTAMP:20260419T130644
CREATED:20200108T201818
LAST-MODIFIED:20200108T201818
UID:535906-1580569200-@https://thepaintandpour.com
SUMMARY:Hope Blooms - Feb 1st 3-5 PM
DESCRIPTION:&nbsp;  Hope Blooms  &nbsp;    &nbsp;
LOCATION:5 S Washington St, Ypsilanti, MI, 48197, United States
URL:https://thepaintandpour.com/event/hope-blooms-feb-1st-3-5-pm/
END:VEVENT
END:VCALENDAR