BEGIN:VCALENDAR
VERSION:2.0
PRODID:-//Paint &amp; Pour - ECPv2.0.11//NONSGML v1.0//EN
CALSCALE:GREGORIAN
METHOD:PUBLISH
X-WR-CALNAME:Paint &amp; Pour
X-ORIGINAL-URL:https://thepaintandpour.com
X-WR-CALDESC:Events for Paint &amp; Pour
X-WR-TIMEZONE:America/Detroit
BEGIN:VEVENT
DTSTART;VALUE=DATE-TIME:20191026T110000
DTEND;VALUE=DATE-TIME:20191026T130000.000000
DTSTAMP:20260423T110805
CREATED:20191012T140931
LAST-MODIFIED:20191012T140931
UID:534759-1572087600-@https://thepaintandpour.com
SUMMARY:Harper Jane Bday- Mini Jack -O - Oct 26th 11 AM-1 PM
DESCRIPTION:Mini Jack -O  Come paint with Harper Jane for her Birthday!
LOCATION:5 S Washington St, Ypsilanti, MI, 48197, United States
URL:https://thepaintandpour.com/event/harper-jane-bday-mini-jack-o-oct-26th-11-am-1-pm/
END:VEVENT
END:VCALENDAR